BEGIN:VCALENDAR
VERSION:2.0
PRODID:-//Bayshore Beach Club - ECPv6.15.20//NONSGML v1.0//EN
CALSCALE:GREGORIAN
METHOD:PUBLISH
X-ORIGINAL-URL:https://bayshorebeach.com
X-WR-CALDESC:Events for Bayshore Beach Club
REFRESH-INTERVAL;VALUE=DURATION:PT1H
X-Robots-Tag:noindex
X-PUBLISHED-TTL:PT1H
BEGIN:VTIMEZONE
TZID:America/Vancouver
BEGIN:DAYLIGHT
TZOFFSETFROM:-0800
TZOFFSETTO:-0700
TZNAME:PDT
DTSTART:20250309T100000
END:DAYLIGHT
BEGIN:STANDARD
TZOFFSETFROM:-0700
TZOFFSETTO:-0800
TZNAME:PST
DTSTART:20251102T090000
END:STANDARD
BEGIN:DAYLIGHT
TZOFFSETFROM:-0800
TZOFFSETTO:-0700
TZNAME:PDT
DTSTART:20260308T100000
END:DAYLIGHT
BEGIN:STANDARD
TZOFFSETFROM:-0700
TZOFFSETTO:-0800
TZNAME:PST
DTSTART:20261101T090000
END:STANDARD
BEGIN:DAYLIGHT
TZOFFSETFROM:-0800
TZOFFSETTO:-0700
TZNAME:PDT
DTSTART:20270314T100000
END:DAYLIGHT
BEGIN:STANDARD
TZOFFSETFROM:-0700
TZOFFSETTO:-0800
TZNAME:PST
DTSTART:20271107T090000
END:STANDARD
END:VTIMEZONE
BEGIN:VEVENT
DTSTART;TZID=America/Vancouver:20260306T170000
DTEND;TZID=America/Vancouver:20260306T183000
DTSTAMP:20260425T082212
CREATED:20260304T073851Z
LAST-MODIFIED:20260304T073851Z
UID:1403-1772816400-1772821800@bayshorebeach.com
SUMMARY:March 6th Happy Hour
DESCRIPTION:Bayshore Beach Club March 6th Happy Hour 5-6:30\nIn the ClubHouse!
URL:https://bayshorebeach.com/event/march-6th-happy-hour/
END:VEVENT
BEGIN:VEVENT
DTSTART;TZID=America/Vancouver:20260321T130000
DTEND;TZID=America/Vancouver:20260321T150000
DTSTAMP:20260425T082212
CREATED:20260224T020924Z
LAST-MODIFIED:20260311T211245Z
UID:1391-1774098000-1774105200@bayshorebeach.com
SUMMARY:Board of Directors Meeting
DESCRIPTION:Board of Directors Meeting\nBayshore Beach Club Board of Directors Meeting will be held on Saturday\, March 21\, at 1:00 pm.  The meeting will be held at the Clubhouse and on Zoom.   The agenda\, reports and Zoom link will be send via email on Monday\, March 16th. \nKaren Moorhead\nCorporate Secretary
URL:https://bayshorebeach.com/event/board-of-directors-meeting-2/
END:VEVENT
END:VCALENDAR